BEGIN:VCALENDAR
VERSION:2.0
PRODID:-//wp-events-plugin.com//7.2.3.1//EN
TZID:Europe/Berlin
X-WR-TIMEZONE:Europe/Berlin
BEGIN:VEVENT
UID:326@schrobenhausen-katholisch.de
DTSTART;TZID=Europe/Berlin:20250622T190000
DTEND;TZID=Europe/Berlin:20250622T210000
DTSTAMP:20250607T070816Z
URL:https://schrobenhausen-katholisch.de/events/40-jaehriges-priesterjubil
 aeum/
SUMMARY:40-jähriges Priesterjubiläum
DESCRIPTION:Abendmesse mit 40-jährigem Priesterjubiläum von Pfarrer Pokor
 ski\, anschließend Stehempfang
ATTACH;FMTTYPE=image/jpeg:https://schrobenhausen-katholisch.de/wp-content/
 uploads/2023/12/event_logo_pg-sob.png
CATEGORIES:PG SOB
LOCATION:Pfarrkirche Hl. Geist\, Griesweg 25 a\, Schrobenhausen-Mühlried\,
  86529\, Deutschland
GEO:48.56568861;11.28024459
X-APPLE-STRUCTURED-LOCATION;VALUE=URI;X-ADDRESS=Griesweg 25 a\, Schrobenhau
 sen-Mühlried\, 86529\, Deutschland;X-APPLE-RADIUS=100;X-TITLE=Pfarrkirche
  Hl. Geist:geo:48.56568861,11.28024459
END:VEVENT
BEGIN:VTIMEZONE
TZID:Europe/Berlin
X-LIC-LOCATION:Europe/Berlin
BEGIN:DAYLIGHT
DTSTART:20250330T030000
TZOFFSETFROM:+0100
TZOFFSETTO:+0200
TZNAME:CEST
END:DAYLIGHT
END:VTIMEZONE
END:VCALENDAR