BEGIN:VCALENDAR
VERSION:2.0
PRODID:-//wp-events-plugin.com//7.2.3.1//EN
TZID:Europe/Berlin
X-WR-TIMEZONE:Europe/Berlin
BEGIN:VEVENT
UID:319@schrobenhausen-katholisch.de
DTSTART;TZID=Europe/Berlin;VALUE=DATE:20250908
DTEND;TZID=Europe/Berlin;VALUE=DATE:20250909
DTSTAMP:20250503T140753Z
URL:https://schrobenhausen-katholisch.de/events/halbtagesfahrt-nach-abensb
 erg/
SUMMARY:Halbtagesfahrt nach Abensberg
DESCRIPTION:mit Brauereibesichtigung und Führung
ATTACH;FMTTYPE=image/jpeg:https://schrobenhausen-katholisch.de/wp-content/
 uploads/2024/10/logo_event_frauenbund.png
CATEGORIES:Frauenbund
END:VEVENT
BEGIN:VTIMEZONE
TZID:Europe/Berlin
X-LIC-LOCATION:Europe/Berlin
BEGIN:DAYLIGHT
DTSTART:20250330T030000
TZOFFSETFROM:+0100
TZOFFSETTO:+0200
TZNAME:CEST
END:DAYLIGHT
END:VTIMEZONE
END:VCALENDAR