BEGIN:VCALENDAR
VERSION:2.0
PRODID:-//wp-events-plugin.com//7.2.3.1//EN
TZID:Europe/Berlin
X-WR-TIMEZONE:Europe/Berlin
BEGIN:VEVENT
UID:324@schrobenhausen-katholisch.de
DTSTART;TZID=Europe/Berlin:20251017T190000
DTEND;TZID=Europe/Berlin:20251017T203000
DTSTAMP:20250531T050303Z
URL:https://schrobenhausen-katholisch.de/events/max-josef-metzger-1887-194
 4-im-blickpunkt/
SUMMARY:Max Josef Metzger (1887–1944) im Blickpunkt
DESCRIPTION:Max Josef Metzger hat sich als Geistlicher nicht nur für relig
 iöse oder kirchliche Fragen interessiert\, sondern sich auch mit sozialet
 hischen\, wirtschaftlichen und politischen Themen beschäftigt und sich au
 ch sein eigenes Urteil gebildet. Dabei war er meisten seiner Zeit weit vor
 aus. Metzger war in seinem Leben oft missverstanden worden und hatte zu se
 inen Vorschlägen und Unternehmungen vielfach Ablehnung und Kritik erfahre
 n müssen. Die Seligsprechung ist der Höhepunkt im Prozess der Rehabilita
 tion eines so oft verkannten Visionärs.\n\nEintritt: 5 Euro\nOrt: Pfarrst
 überl St. Jakob\, Schrobenhausen
ATTACH;FMTTYPE=image/jpeg:https://schrobenhausen-katholisch.de/wp-content/
 uploads/2024/12/logo_event_keb.png
CATEGORIES:KEB
LOCATION:Pfarrzentrum Schrobenhausen\, Im Tal 9\, Schrobenhausen\, 86529\, 
 Deutschland
GEO:48.5617864;11.26674865
X-APPLE-STRUCTURED-LOCATION;VALUE=URI;X-ADDRESS=Im Tal 9\, Schrobenhausen\,
  86529\, Deutschland;X-APPLE-RADIUS=100;X-TITLE=Pfarrzentrum Schrobenhause
 n:geo:48.5617864,11.26674865
END:VEVENT
BEGIN:VTIMEZONE
TZID:Europe/Berlin
X-LIC-LOCATION:Europe/Berlin
BEGIN:DAYLIGHT
DTSTART:20250330T030000
TZOFFSETFROM:+0100
TZOFFSETTO:+0200
TZNAME:CEST
END:DAYLIGHT
END:VTIMEZONE
END:VCALENDAR