BEGIN:VCALENDAR
VERSION:2.0
PRODID:-//wp-events-plugin.com//7.2.3.1//EN
TZID:Europe/Berlin
X-WR-TIMEZONE:Europe/Berlin
BEGIN:VEVENT
UID:295@schrobenhausen-katholisch.de
DTSTART;TZID=Europe/Berlin;VALUE=DATE:20250628
DTEND;TZID=Europe/Berlin;VALUE=DATE:20250629
DTSTAMP:20250608T101618Z
URL:https://schrobenhausen-katholisch.de/events/pfarrausflug-st-jakob-2025
 /
SUMMARY:Pfarrausflug St. Jakob 2025
DESCRIPTION:[vc_row][vc_column width="1/2"][vc_column_text]Für Samstag\, 2
 8. Juni 2025\, lädt die Pfarrei St. Jakob zum Pfarrausflug ein\, der 
 in diesem Jahr die Heimatgemeinde unseres Stadtpfarrers\, Georg Leonhard B
 ühler\, Remshart und die in der Nachbarschaft liegende Stadt Günzburg al
 s Ziel hat. Abfahrt ist um 8 Uhr am Busbahnhof\, Rückkehr um ca. 22 U
 hr. Geplant ist eine Stadtführung in Günzburg sowie auch Zeit zur freien
  Verfügung. Familien\, die das „Legoland“ besuchen wollen\, können a
 uch gerne mitfahren. Den Abschluss des Tages bildet für alle Teilnehmer e
 in gemeinsamer Gottesdienst mit unserem Stadtpfarrer in der Pfarrkirche St
 . Leonhard in Remshart und das anschließende Abendessen im Gasthof Zahler
  (Schwäbischer Kartoffel-Wirt) in Röfingen.\n\nBusfahrt: 30\,– € p
 ro Person\nStadtführung: 5\,– € pro Person\n\nAnmeldung für alle I
 nteressierten ist im Pfarrbüro möglich.[/vc_column_text][/vc_column][vc_
 column width="1/2"][vcex_image image_id="4193" onclick="lightbox_image"][/
 vc_column][/vc_row]
ATTACH;FMTTYPE=image/jpeg:https://schrobenhausen-katholisch.de/wp-content/
 uploads/2023/12/event_logo_schrobenhausen.png
CATEGORIES:St. Jakob
LOCATION:Busbahnhof Schrobenhausen\, Bürgermeister-Stocker-Ring\, Schroben
 hausen\, 86529\, Deutschland
GEO:48.55885180;11.26655070
X-APPLE-STRUCTURED-LOCATION;VALUE=URI;X-ADDRESS=Bürgermeister-Stocker-Ring
 \, Schrobenhausen\, 86529\, Deutschland;X-APPLE-RADIUS=100;X-TITLE=Busbahn
 hof Schrobenhausen:geo:48.55885180,11.26655070
END:VEVENT
BEGIN:VTIMEZONE
TZID:Europe/Berlin
X-LIC-LOCATION:Europe/Berlin
BEGIN:DAYLIGHT
DTSTART:20250330T030000
TZOFFSETFROM:+0100
TZOFFSETTO:+0200
TZNAME:CEST
END:DAYLIGHT
END:VTIMEZONE
END:VCALENDAR