BEGIN:VCALENDAR
VERSION:2.0
PRODID:-//wp-events-plugin.com//7.2.3.1//EN
TZID:Europe/Berlin
X-WR-TIMEZONE:Europe/Berlin
BEGIN:VEVENT
UID:108@schrobenhausen-katholisch.de
DTSTART;TZID=Europe/Berlin:20240630T101500
DTEND;TZID=Europe/Berlin:20240630T210000
DTSTAMP:20240630T112528Z
URL:https://schrobenhausen-katholisch.de/events/pfarrfest/
SUMMARY:Pfarrfest St. Martin Hörzhausen
DESCRIPTION:[vc_row][vc_column width="1/2"][vc_column_text]Um 10:15 Uhr F
 estgottesdienst für die Erwachsenen in der Pfarrkirche\, zeitgleich Kinde
 rgottesdienst im Kinderhaus St. Martin Hörzhausen. Anschließend Pfarrfes
 t und Feier des 30-jährigen Bestehens des Kinderhauses. Für das leiblich
 e Wohl ist gesorgt.\n\nUm 19 Uhr Orgelkonzert anlässlich des 25-jährig
 en Jubiläums der Orgelweihe. Das Konzert wird von Markus Hanke\, Domvikar
  Dominik Zitzler\, Elisabeth Metzger und Martin Euba\, sowie von Barbara A
 ssenbrunner und Christian Euba gestaltet.\n\nZum Abschluss dieses Jubiläu
 mstages sind alle noch einmal nach dem Konzert zu einem gemütlichen Beisa
 mmensein in den Pfarrgarten eingeladen.[/vc_column_text][/vc_column][vc_co
 lumn width="1/2"][vcex_image onclick="lightbox_image" image_id="2934"][/vc
 _column][/vc_row]
ATTACH;FMTTYPE=image/jpeg:https://schrobenhausen-katholisch.de/wp-content/
 uploads/2024/04/2024_pfarrfest_hoe_cropped.jpg
CATEGORIES:St. Martin
LOCATION:Pfarrkirche St. Martin\, Obermühlstraße 14\, Schrobenhausen-Hör
 zhausen\, 86529\, Deutschland
GEO:48.54445893;11.19945645
X-APPLE-STRUCTURED-LOCATION;VALUE=URI;X-ADDRESS=Obermühlstraße 14\, Schro
 benhausen-Hörzhausen\, 86529\, Deutschland;X-APPLE-RADIUS=100;X-TITLE=Pfa
 rrkirche St. Martin:geo:48.54445893,11.19945645
END:VEVENT
BEGIN:VTIMEZONE
TZID:Europe/Berlin
X-LIC-LOCATION:Europe/Berlin
BEGIN:DAYLIGHT
DTSTART:20240331T030000
TZOFFSETFROM:+0100
TZOFFSETTO:+0200
TZNAME:CEST
END:DAYLIGHT
END:VTIMEZONE
END:VCALENDAR