BEGIN:VCALENDAR
VERSION:2.0
PRODID:-//wp-events-plugin.com//7.2.3.1//EN
TZID:Europe/Berlin
X-WR-TIMEZONE:Europe/Berlin
BEGIN:VEVENT
UID:268@schrobenhausen-katholisch.de
DTSTART;TZID=Europe/Berlin:20250325T200000
DTEND;TZID=Europe/Berlin:20250325T203000
DTSTAMP:20250308T093922Z
URL:https://schrobenhausen-katholisch.de/events/segnungsfeier-fuer-werdend
 e-eltern-3/
SUMMARY:Segnungsfeier für werdende Eltern
DESCRIPTION:Seit dem Jahr 2023 lädt der Ausschuss Ehe und Familie unserer 
 Pfarreiengemeinschaft werdende Eltern zu einer Segnungsfeier in die Stadtp
 farrei St. Jakob ein.\n\nAn den drei Marienfesttagen Maria Verkündigung a
 m 25. März\, Maria Heimsuchung am 2. Juli und Maria Empfängnis am 8.
  Dezember (jeweils um 20 Uhr in der Frauenkirche in Schrobenhausen) k
 önnen Sie sich und Ihr ungeborenes Kind unter den besonderen Segen Gottes
  stellen.\n\nDazu heißen wir Sie als Mutter\, Vater oder mit der ganzen F
 amilie herzlich willkommen. Ab diesem Jahr treffen wir uns in der Frauenki
 rche\, Lenbachstraße 30. Am Ende der kurzen Andacht bekommt jede Famili
 e ein kleines Geschenk überreicht.\n\nWir freuen uns auf Ihr Kommen.
ATTACH;FMTTYPE=image/jpeg:https://schrobenhausen-katholisch.de/wp-content/
 uploads/2024/04/logo_godi_werdende_eltern.jpg
CATEGORIES:PG SOB
LOCATION:Filialkirche Unsere Liebe Frau\, Lenbachstraße 30\, Schrobenhause
 n\, 86529\, Deutschland
GEO:48.56141765;11.26434233
X-APPLE-STRUCTURED-LOCATION;VALUE=URI;X-ADDRESS=Lenbachstraße 30\, Schrobe
 nhausen\, 86529\, Deutschland;X-APPLE-RADIUS=100;X-TITLE=Filialkirche Unse
 re Liebe Frau:geo:48.56141765,11.26434233
END:VEVENT
BEGIN:VTIMEZONE
TZID:Europe/Berlin
X-LIC-LOCATION:Europe/Berlin
BEGIN:STANDARD
DTSTART:20241027T020000
TZOFFSETFROM:+0200
TZOFFSETTO:+0100
TZNAME:CET
END:STANDARD
END:VTIMEZONE
END:VCALENDAR