BEGIN:VCALENDAR
VERSION:2.0
PRODID:-//wp-events-plugin.com//7.2.3.1//EN
TZID:Europe/Berlin
X-WR-TIMEZONE:Europe/Berlin
BEGIN:VEVENT
UID:441@schrobenhausen-katholisch.de
DTSTART;TZID=Europe/Berlin:20260507T160000
DTEND;TZID=Europe/Berlin:20260507T170000
DTSTAMP:20260407T132418Z
URL:https://schrobenhausen-katholisch.de/events/vorlesestunde-3-2025-09-04
 -2025-10-02-2025-11-06-2025-12-04-2026-01-01-2026-02-05-2026-03-05-2026-04
 -02-2026-05-07/
SUMMARY:Vorlesestunde
DESCRIPTION:Die katholische öffentliche Bücherei lädt alle Kinder von 5 
 bis 8 Jahren zu einer Vorlesestunde mit Margret Ehrmann (Erzieherin\, Mär
 chenerzählerin\, Märchenpädagogin) ein.
ATTACH;FMTTYPE=image/jpeg:https://schrobenhausen-katholisch.de/wp-content/
 uploads/2024/02/logo_koeb_vorlesestunde.jpg
CATEGORIES:Kath. öffentl. Bücherei
LOCATION:Katholische öffentliche Bücherei Schrobenhausen\, Im Tal 9\, Sch
 robenhausen\, 86529\, Deutschland
GEO:48.56181191;11.26655996
X-APPLE-STRUCTURED-LOCATION;VALUE=URI;X-ADDRESS=Im Tal 9\, Schrobenhausen\,
  86529\, Deutschland;X-APPLE-RADIUS=100;X-TITLE=Katholische öffentliche B
 ücherei Schrobenhausen:geo:48.56181191,11.26655996
END:VEVENT
BEGIN:VTIMEZONE
TZID:Europe/Berlin
X-LIC-LOCATION:Europe/Berlin
BEGIN:DAYLIGHT
DTSTART:20260329T030000
TZOFFSETFROM:+0100
TZOFFSETTO:+0200
TZNAME:CEST
END:DAYLIGHT
END:VTIMEZONE
END:VCALENDAR